BEGIN:VCALENDAR
VERSION:2.0
PRODID:-//StreamRadar//Match Calendar//EN
CALSCALE:GREGORIAN
METHOD:PUBLISH
X-WR-CALNAME:Vizela U23 vs União de Leiria U23
X-WR-TIMEZONE:America/New_York
BEGIN:VEVENT
UID:match-5617641@streamradar.soccer
SUMMARY:Vizela U23 vs União de Leiria U23
DTSTAMP:20260420T122126Z
DTSTART;TZID=America/New_York:20260421T100000
DTEND;TZID=America/New_York:20260421T120000
LOCATION:Campo das Oliveiras (Serzedelo (Guimarães))
DESCRIPTION:Gde gledati Vizela U23 protiv União De Leiria U23 u takmičenj
 u Portugal - Liga Revelação. Prenos uživo i TV program.\nhttps://streamr
 adar.soccer/sr/match/5617641/vizela-u23-vs-uniao-de-leiria-u23/
URL;VALUE=URI:https://streamradar.soccer/sr/match/5617641/vizela-u23-vs-uni
 ao-de-leiria-u23/
STATUS:CONFIRMED
END:VEVENT
END:VCALENDAR
