BEGIN:VCALENDAR
VERSION:2.0
PRODID:-//StreamRadar//Match Calendar//EN
CALSCALE:GREGORIAN
METHOD:PUBLISH
X-WR-CALNAME:Leixões U23 vs Santa Clara U23
X-WR-TIMEZONE:America/New_York
BEGIN:VEVENT
UID:match-5617635@streamradar.soccer
SUMMARY:Leixões U23 vs Santa Clara U23
DTSTAMP:20260420T121130Z
DTSTART;TZID=America/New_York:20260421T060000
DTEND;TZID=America/New_York:20260421T080000
LOCATION:Estádio do Mar (Matosinhos)
DESCRIPTION:Gde gledati Leixões U23 protiv Santa Clara U23 u takmičenju P
 ortugal - Liga Revelação. Prenos uživo i TV program.\nhttps://streamrada
 r.soccer/sr/match/5617635/leixoes-u23-vs-santa-clara-u23/
URL;VALUE=URI:https://streamradar.soccer/sr/match/5617635/leixoes-u23-vs-sa
 nta-clara-u23/
STATUS:CONFIRMED
END:VEVENT
END:VCALENDAR
