BEGIN:VCALENDAR
VERSION:2.0
PRODID:-//StreamRadar//Match Calendar//EN
CALSCALE:GREGORIAN
METHOD:PUBLISH
X-WR-CALNAME:Ventura County vs San Jose Earthquakes II
X-WR-TIMEZONE:America/New_York
BEGIN:VEVENT
UID:match-5617626@streamradar.soccer
SUMMARY:Ventura County vs San Jose Earthquakes II
DTSTAMP:20260420T121352Z
DTSTART;TZID=America/New_York:20260501T220000
DTEND;TZID=America/New_York:20260502T000000
LOCATION:Dignity Health Sports Park
DESCRIPTION:Gde gledati Ventura County protiv San Jose Earthquakes II u tak
 mičenju MLS Next Pro. Prenos uživo i TV program.\nhttps://streamradar.soc
 cer/sr/match/5617626/ventura-county-vs-san-jose-earthquakes-ii/
URL;VALUE=URI:https://streamradar.soccer/sr/match/5617626/ventura-county-vs
 -san-jose-earthquakes-ii/
STATUS:CONFIRMED
END:VEVENT
END:VCALENDAR
