BEGIN:VCALENDAR
VERSION:2.0
PRODID:-//StreamRadar//Match Calendar//EN
CALSCALE:GREGORIAN
METHOD:PUBLISH
X-WR-CALNAME:Independente SP vs São Carlos
X-WR-TIMEZONE:America/New_York
BEGIN:VEVENT
UID:match-5617599@streamradar.soccer
SUMMARY:Independente SP vs São Carlos
DTSTAMP:20260420T165047Z
DTSTART;TZID=America/New_York:20260510T090000
DTEND;TZID=America/New_York:20260510T110000
DESCRIPTION:Gde gledati Independente SP protiv São Carlos u takmičenju Br
 azil - Campeonato Paulista Serie B. Prenos uživo i TV program.\nhttps://st
 reamradar.soccer/sr/match/5617599/independente-sp-vs-sao-carlos/
URL;VALUE=URI:https://streamradar.soccer/sr/match/5617599/independente-sp-v
 s-sao-carlos/
STATUS:CONFIRMED
END:VEVENT
END:VCALENDAR
