BEGIN:VCALENDAR
VERSION:2.0
PRODID:-//StreamRadar//Match Calendar//EN
CALSCALE:GREGORIAN
METHOD:PUBLISH
X-WR-CALNAME:America Sp vs Santa Fe Sp
X-WR-TIMEZONE:America/New_York
BEGIN:VEVENT
UID:match-5617594@streamradar.soccer
SUMMARY:America Sp vs Santa Fe Sp
DTSTAMP:20260420T133628Z
DTSTART;TZID=America/New_York:20260509T140000
DTEND;TZID=America/New_York:20260509T160000
DESCRIPTION:Gde gledati America Sp protiv Santa Fe Sp u takmičenju Brazil 
 - Campeonato Paulista Serie B. Prenos uživo i TV program.\nhttps://streamr
 adar.soccer/sr/match/5617594/america-sp-vs-santa-fe-sp/
URL;VALUE=URI:https://streamradar.soccer/sr/match/5617594/america-sp-vs-san
 ta-fe-sp/
STATUS:CONFIRMED
END:VEVENT
END:VCALENDAR
