BEGIN:VCALENDAR
VERSION:2.0
PRODID:-//StreamRadar//Match Calendar//EN
CALSCALE:GREGORIAN
METHOD:PUBLISH
X-WR-CALNAME:Jose Bonifacio EC vs Santa Fe Sp
X-WR-TIMEZONE:America/New_York
BEGIN:VEVENT
UID:match-5617579@streamradar.soccer
SUMMARY:Jose Bonifacio EC vs Santa Fe Sp
DTSTAMP:20260420T165333Z
DTSTART;TZID=America/New_York:20260426T140000
DTEND;TZID=America/New_York:20260426T160000
DESCRIPTION:Gde gledati Jose Bonifacio EC protiv Santa Fe Sp u takmičenju 
 Brazil - Campeonato Paulista Serie B. Prenos uživo i TV program.\nhttps://
 streamradar.soccer/sr/match/5617579/jose-bonifacio-ec-vs-santa-fe-sp/
URL;VALUE=URI:https://streamradar.soccer/sr/match/5617579/jose-bonifacio-ec
 -vs-santa-fe-sp/
STATUS:CONFIRMED
END:VEVENT
END:VCALENDAR
