BEGIN:VCALENDAR
VERSION:2.0
PRODID:-//StreamRadar//Match Calendar//EN
CALSCALE:GREGORIAN
METHOD:PUBLISH
X-WR-CALNAME:Riopretano vs America Sp
X-WR-TIMEZONE:America/New_York
BEGIN:VEVENT
UID:match-5617578@streamradar.soccer
SUMMARY:Riopretano vs America Sp
DTSTAMP:20260420T133630Z
DTSTART;TZID=America/New_York:20260426T090000
DTEND;TZID=America/New_York:20260426T110000
DESCRIPTION:Gde gledati Riopretano protiv America Sp u takmičenju Brazil -
  Campeonato Paulista Serie B. Prenos uživo i TV program.\nhttps://streamra
 dar.soccer/sr/match/5617578/riopretano-vs-america-sp/
URL;VALUE=URI:https://streamradar.soccer/sr/match/5617578/riopretano-vs-ame
 rica-sp/
STATUS:CONFIRMED
END:VEVENT
END:VCALENDAR
