BEGIN:VCALENDAR
VERSION:2.0
PRODID:-//StreamRadar//Match Calendar//EN
CALSCALE:GREGORIAN
METHOD:PUBLISH
X-WR-CALNAME:Mogi Mirim vs Independente SP
X-WR-TIMEZONE:America/New_York
BEGIN:VEVENT
UID:match-5617574@streamradar.soccer
SUMMARY:Mogi Mirim vs Independente SP
DTSTAMP:20260420T133420Z
DTSTART;TZID=America/New_York:20260425T140000
DTEND;TZID=America/New_York:20260425T160000
LOCATION:Estádio Vail Chaves (Mogi Mirim\, São Paulo)
DESCRIPTION:Gde gledati Mogi Mirim protiv Independente SP u takmičenju Bra
 zil - Campeonato Paulista Serie B. Prenos uživo i TV program.\nhttps://str
 eamradar.soccer/sr/match/5617574/mogi-mirim-vs-independente-sp/
URL;VALUE=URI:https://streamradar.soccer/sr/match/5617574/mogi-mirim-vs-ind
 ependente-sp/
STATUS:CONFIRMED
END:VEVENT
END:VCALENDAR
