BEGIN:VCALENDAR
VERSION:2.0
PRODID:-//StreamRadar//Match Calendar//EN
CALSCALE:GREGORIAN
METHOD:PUBLISH
X-WR-CALNAME:Malmesbury Victoria Feminino vs SL Benfica Feminino
X-WR-TIMEZONE:America/New_York
BEGIN:VEVENT
UID:match-5617545@streamradar.soccer
SUMMARY:Malmesbury Victoria Feminino vs SL Benfica Feminino
DTSTAMP:20260420T122402Z
DTSTART;TZID=America/New_York:20260425T133000
DTEND;TZID=America/New_York:20260425T153000
LOCATION:The Flying Monk Ground (Malmesbury\, Wiltshire)
DESCRIPTION:Gde gledati Malmesbury Victoria Feminino protiv SL Benfica Femi
 nino u takmičenju Portugal - Nacionalno žensko prvenstvo Portugala. Preno
 s uživo i TV program.\nhttps://streamradar.soccer/sr/match/5617545/malmesb
 ury-victoria-feminino-vs-sl-benfica-feminino/
URL;VALUE=URI:https://streamradar.soccer/sr/match/5617545/malmesbury-victor
 ia-feminino-vs-sl-benfica-feminino/
STATUS:CONFIRMED
END:VEVENT
END:VCALENDAR
