BEGIN:VCALENDAR
VERSION:2.0
PRODID:-//StreamRadar//Match Calendar//EN
CALSCALE:GREGORIAN
METHOD:PUBLISH
X-WR-CALNAME:Real Apodaca vs Zacatepec
X-WR-TIMEZONE:America/New_York
BEGIN:VEVENT
UID:match-5617499@streamradar.soccer
SUMMARY:Real Apodaca vs Zacatepec
DTSTAMP:20260421T054629Z
DTSTART;TZID=America/New_York:20260425T160000
DTEND;TZID=America/New_York:20260425T180000
LOCATION:Unidad Deportiva Centenario del Ejercito Mexicano (Apodaca Centro)
DESCRIPTION:Gde gledati Real Apodaca protiv Zacatepec u takmičenju Meksiko
  - Liga Premier Meksiko. Prenos uživo i TV program.\nhttps://streamradar.s
 occer/sr/match/5617499/real-apodaca-vs-zacatepec/
URL;VALUE=URI:https://streamradar.soccer/sr/match/5617499/real-apodaca-vs-z
 acatepec/
STATUS:CONFIRMED
END:VEVENT
END:VCALENDAR
