BEGIN:VCALENDAR
VERSION:2.0
PRODID:-//StreamRadar//Match Calendar//EN
CALSCALE:GREGORIAN
METHOD:PUBLISH
X-WR-CALNAME:Racing Veracruz vs Tritons Vallarta
X-WR-TIMEZONE:America/New_York
BEGIN:VEVENT
UID:match-5617497@streamradar.soccer
SUMMARY:Racing Veracruz vs Tritons Vallarta
DTSTAMP:20260421T072932Z
DTSTART;TZID=America/New_York:20260425T160000
DTEND;TZID=America/New_York:20260425T180000
LOCATION:Unidad Deportiva Hugo Sánchez (Boca del Río\, Veracruz)
DESCRIPTION:Gde gledati Racing Veracruz protiv Tritons Vallarta u takmičen
 ju Meksiko - Liga Premier Meksiko. Prenos uživo i TV program.\nhttps://str
 eamradar.soccer/sr/match/5617497/racing-veracruz-vs-tritons-vallarta/
URL;VALUE=URI:https://streamradar.soccer/sr/match/5617497/racing-veracruz-v
 s-tritons-vallarta/
STATUS:CONFIRMED
END:VEVENT
END:VCALENDAR
