BEGIN:VCALENDAR
VERSION:2.0
PRODID:-//StreamRadar//Match Calendar//EN
CALSCALE:GREGORIAN
METHOD:PUBLISH
X-WR-CALNAME:Halcones de Zapopan vs Deportiva Venados
X-WR-TIMEZONE:America/New_York
BEGIN:VEVENT
UID:match-5617492@streamradar.soccer
SUMMARY:Halcones de Zapopan vs Deportiva Venados
DTSTAMP:20260421T063539Z
DTSTART;TZID=America/New_York:20260422T160000
DTEND;TZID=America/New_York:20260422T180000
LOCATION:Estadio Miguel Hidalgo (Zapotlanejo)
DESCRIPTION:Gde gledati Halcones De Zapopan protiv Deportiva Venados u takm
 ičenju Meksiko - Liga Premier Meksiko. Prenos uživo i TV program.\nhttps:
 //streamradar.soccer/sr/match/5617492/halcones-de-zapopan-vs-deportiva-vena
 dos/
URL;VALUE=URI:https://streamradar.soccer/sr/match/5617492/halcones-de-zapop
 an-vs-deportiva-venados/
STATUS:CONFIRMED
END:VEVENT
END:VCALENDAR
