BEGIN:VCALENDAR
VERSION:2.0
PRODID:-//StreamRadar//Match Calendar//EN
CALSCALE:GREGORIAN
METHOD:PUBLISH
X-WR-CALNAME:Al Minaa Basra vs Al Quwa Al Jawiya
X-WR-TIMEZONE:America/New_York
BEGIN:VEVENT
UID:match-5617425@streamradar.soccer
SUMMARY:Al Minaa Basra vs Al Quwa Al Jawiya
DTSTAMP:20260421T063556Z
DTSTART;TZID=America/New_York:20260502T123000
DTEND;TZID=America/New_York:20260502T143000
DESCRIPTION:Gde gledati Al Minaa Basra protiv Al Quwa Al Jawiya u takmičen
 ju Iraqi Premier League. Prenos uživo i TV program.\nhttps://streamradar.s
 occer/sr/match/5617425/al-minaa-basra-vs-al-quwa-al-jawiya/
URL;VALUE=URI:https://streamradar.soccer/sr/match/5617425/al-minaa-basra-vs
 -al-quwa-al-jawiya/
STATUS:CONFIRMED
END:VEVENT
END:VCALENDAR
