BEGIN:VCALENDAR
VERSION:2.0
PRODID:-//StreamRadar//Match Calendar//EN
CALSCALE:GREGORIAN
METHOD:PUBLISH
X-WR-CALNAME:Al Najaf vs Duhok
X-WR-TIMEZONE:America/New_York
BEGIN:VEVENT
UID:match-5617413@streamradar.soccer
SUMMARY:Al Najaf vs Duhok
DTSTAMP:20260421T084237Z
DTSTART;TZID=America/New_York:20260427T123000
DTEND;TZID=America/New_York:20260427T143000
DESCRIPTION:Gde gledati Al Najaf protiv Duhok u takmičenju Iraqi Premier L
 eague. Prenos uživo i TV program.\nhttps://streamradar.soccer/sr/match/561
 7413/al-najaf-vs-duhok/
URL;VALUE=URI:https://streamradar.soccer/sr/match/5617413/al-najaf-vs-duhok
 /
STATUS:CONFIRMED
END:VEVENT
END:VCALENDAR
