BEGIN:VCALENDAR
VERSION:2.0
PRODID:-//StreamRadar//Match Calendar//EN
CALSCALE:GREGORIAN
METHOD:PUBLISH
X-WR-CALNAME:Beerschot vs Patro Eisden
X-WR-TIMEZONE:America/New_York
BEGIN:VEVENT
UID:match-5617398@streamradar.soccer
SUMMARY:Beerschot vs Patro Eisden
DTSTAMP:20260421T084140Z
DTSTART;TZID=America/New_York:20260427T143000
DTEND;TZID=America/New_York:20260427T163000
LOCATION:Olympisch Stadion
DESCRIPTION:Gde gledati Beerschot protiv Patro Eisden u takmičenju Belgija
  - Jupiler Pro League. Prenos uživo i TV program.\nhttps://streamradar.soc
 cer/sr/match/5617398/beerschot-vs-patro-eisden/
URL;VALUE=URI:https://streamradar.soccer/sr/match/5617398/beerschot-vs-patr
 o-eisden/
STATUS:CONFIRMED
END:VEVENT
END:VCALENDAR
