BEGIN:VCALENDAR
VERSION:2.0
PRODID:-//StreamRadar//Match Calendar//EN
CALSCALE:GREGORIAN
METHOD:PUBLISH
X-WR-CALNAME:Machida Zelvia vs Shabab Al Ahli
X-WR-TIMEZONE:America/New_York
BEGIN:VEVENT
UID:match-5617386@streamradar.soccer
SUMMARY:Machida Zelvia vs Shabab Al Ahli
DTSTAMP:20260420T061049Z
DTSTART;TZID=America/New_York:20260421T121500
DTEND;TZID=America/New_York:20260421T141500
LOCATION:King Abdullah Sports City
DESCRIPTION:Gde gledati Machida Zelvia protiv Shabab Al Ahli u takmičenju 
 AFC Champions League Elite. Prenos uživo i TV program.\nhttps://streamrada
 r.soccer/sr/match/5617386/machida-zelvia-vs-shabab-al-ahli/
URL;VALUE=URI:https://streamradar.soccer/sr/match/5617386/machida-zelvia-vs
 -shabab-al-ahli/
STATUS:CONFIRMED
END:VEVENT
END:VCALENDAR
