BEGIN:VCALENDAR
VERSION:2.0
PRODID:-//StreamRadar//Match Calendar//EN
CALSCALE:GREGORIAN
METHOD:PUBLISH
X-WR-CALNAME:Plaza Colonia vs Oriental
X-WR-TIMEZONE:America/New_York
BEGIN:VEVENT
UID:match-5617050@streamradar.soccer
SUMMARY:Plaza Colonia vs Oriental
DTSTAMP:20260419T122256Z
DTSTART;TZID=America/New_York:20260424T180000
DTEND;TZID=America/New_York:20260424T200000
LOCATION:Parque Cincuentenario Juan Prandi
DESCRIPTION:Gde gledati Plaza Colonia protiv Oriental u takmičenju Urugvaj
  - Segunda Divizija. Prenos uživo i TV program.\nhttps://streamradar.socce
 r/sr/match/5617050/plaza-colonia-vs-oriental/
URL;VALUE=URI:https://streamradar.soccer/sr/match/5617050/plaza-colonia-vs-
 oriental/
STATUS:CONFIRMED
END:VEVENT
END:VCALENDAR
