BEGIN:VCALENDAR
VERSION:2.0
PRODID:-//StreamRadar//Match Calendar//EN
CALSCALE:GREGORIAN
METHOD:PUBLISH
X-WR-CALNAME:GFI vs Houston FC
X-WR-TIMEZONE:America/New_York
BEGIN:VEVENT
UID:match-5617025@streamradar.soccer
SUMMARY:GFI vs Houston FC
DTSTAMP:20260421T092320Z
DTSTART;TZID=America/New_York:20260517T200000
DTEND;TZID=America/New_York:20260517T220000
DESCRIPTION:Gde gledati GFI protiv Houston FC u takmičenju USL League Two.
  Prenos uživo i TV program.\nhttps://streamradar.soccer/sr/match/5617025/g
 fi-vs-houston-fc/
URL;VALUE=URI:https://streamradar.soccer/sr/match/5617025/gfi-vs-houston-fc
 /
STATUS:CONFIRMED
END:VEVENT
END:VCALENDAR
