BEGIN:VCALENDAR
VERSION:2.0
PRODID:-//StreamRadar//Match Calendar//EN
CALSCALE:GREGORIAN
METHOD:PUBLISH
X-WR-CALNAME:VPS II vs Kraft
X-WR-TIMEZONE:America/New_York
BEGIN:VEVENT
UID:match-5617007@streamradar.soccer
SUMMARY:VPS II vs Kraft
DTSTAMP:20260419T120132Z
DTSTART;TZID=America/New_York:20260503T100000
DTEND;TZID=America/New_York:20260503T120000
LOCATION:Lemonsoft Stadion
DESCRIPTION:Gde gledati VPS II protiv Kraft u takmičenju Finska - Kakkonen
 . Prenos uživo i TV program.\nhttps://streamradar.soccer/sr/match/5617007/
 vps-ii-vs-kraft/
URL;VALUE=URI:https://streamradar.soccer/sr/match/5617007/vps-ii-vs-kraft/
STATUS:CONFIRMED
END:VEVENT
END:VCALENDAR
