BEGIN:VCALENDAR
VERSION:2.0
PRODID:-//StreamRadar//Match Calendar//EN
CALSCALE:GREGORIAN
METHOD:PUBLISH
X-WR-CALNAME:MYPA vs Reipas
X-WR-TIMEZONE:America/New_York
BEGIN:VEVENT
UID:match-5616966@streamradar.soccer
SUMMARY:MYPA vs Reipas
DTSTAMP:20260421T095815Z
DTSTART;TZID=America/New_York:20260516T100000
DTEND;TZID=America/New_York:20260516T120000
DESCRIPTION:Gde gledati MYPA protiv Reipas u takmičenju Finska - Kakkonen.
  Prenos uživo i TV program.\nhttps://streamradar.soccer/sr/match/5616966/m
 ypa-vs-reipas/
URL;VALUE=URI:https://streamradar.soccer/sr/match/5616966/mypa-vs-reipas/
STATUS:CONFIRMED
END:VEVENT
END:VCALENDAR
