BEGIN:VCALENDAR
VERSION:2.0
PRODID:-//StreamRadar//Match Calendar//EN
CALSCALE:GREGORIAN
METHOD:PUBLISH
X-WR-CALNAME:PuiU Helsinki vs Union Plaani
X-WR-TIMEZONE:America/New_York
BEGIN:VEVENT
UID:match-5616953@streamradar.soccer
SUMMARY:PuiU Helsinki vs Union Plaani
DTSTAMP:20260419T122230Z
DTSTART;TZID=America/New_York:20260425T100000
DTEND;TZID=America/New_York:20260425T120000
LOCATION:Puistolan liikuntapuisto
DESCRIPTION:Gde gledati PuiU Helsinki protiv Union Plaani u takmičenju Fin
 ska - Kakkonen. Prenos uživo i TV program.\nhttps://streamradar.soccer/sr/
 match/5616953/puiu-helsinki-vs-union-plaani/
URL;VALUE=URI:https://streamradar.soccer/sr/match/5616953/puiu-helsinki-vs-
 union-plaani/
STATUS:CONFIRMED
END:VEVENT
END:VCALENDAR
