BEGIN:VCALENDAR
VERSION:2.0
PRODID:-//StreamRadar//Match Calendar//EN
CALSCALE:GREGORIAN
METHOD:PUBLISH
X-WR-CALNAME:Negele Arsi Ketema vs Dire Dawa Kenema
X-WR-TIMEZONE:America/New_York
BEGIN:VEVENT
UID:match-5616926@streamradar.soccer
SUMMARY:Negele Arsi Ketema vs Dire Dawa Kenema
DTSTAMP:20260421T120533Z
DTSTART;TZID=America/New_York:20260511T090000
DTEND;TZID=America/New_York:20260511T110000
DESCRIPTION:Gde gledati Negele Arsi Ketema protiv Dire Dawa Kenema u takmi
 enju Etiopija - Premijer liga Etiopije. Prenos uživo i TV program.\nhttps
 ://streamradar.soccer/sr/match/5616926/negele-arsi-ketema-vs-dire-dawa-kene
 ma/
URL;VALUE=URI:https://streamradar.soccer/sr/match/5616926/negele-arsi-ketem
 a-vs-dire-dawa-kenema/
STATUS:CONFIRMED
END:VEVENT
END:VCALENDAR
