BEGIN:VCALENDAR
VERSION:2.0
PRODID:-//StreamRadar//Match Calendar//EN
CALSCALE:GREGORIAN
METHOD:PUBLISH
X-WR-CALNAME:Ethiopian Insurance vs Ethiopia Nigd Bank
X-WR-TIMEZONE:America/New_York
BEGIN:VEVENT
UID:match-5616925@streamradar.soccer
SUMMARY:Ethiopian Insurance vs Ethiopia Nigd Bank
DTSTAMP:20260421T120613Z
DTSTART;TZID=America/New_York:20260511T080000
DTEND;TZID=America/New_York:20260511T100000
DESCRIPTION:Gde gledati Ethiopian Insurance protiv Ethiopia Nigd Bank u tak
 mičenju Etiopija - Premijer liga Etiopije. Prenos uživo i TV program.\nht
 tps://streamradar.soccer/sr/match/5616925/ethiopian-insurance-vs-ethiopia-n
 igd-bank/
URL;VALUE=URI:https://streamradar.soccer/sr/match/5616925/ethiopian-insuran
 ce-vs-ethiopia-nigd-bank/
STATUS:CONFIRMED
END:VEVENT
END:VCALENDAR
