BEGIN:VCALENDAR
VERSION:2.0
PRODID:-//StreamRadar//Match Calendar//EN
CALSCALE:GREGORIAN
METHOD:PUBLISH
X-WR-CALNAME:Ethiopia Nigd Bank vs Kedus Giorgis
X-WR-TIMEZONE:America/New_York
BEGIN:VEVENT
UID:match-5616910@streamradar.soccer
SUMMARY:Ethiopia Nigd Bank vs Kedus Giorgis
DTSTAMP:20260421T080833Z
DTSTART;TZID=America/New_York:20260505T060000
DTEND;TZID=America/New_York:20260505T080000
DESCRIPTION:Gde gledati Ethiopia Nigd Bank protiv Kedus Giorgis u takmičen
 ju Etiopija - Premijer liga Etiopije. Prenos uživo i TV program.\nhttps://
 streamradar.soccer/sr/match/5616910/ethiopia-nigd-bank-vs-kedus-giorgis/
URL;VALUE=URI:https://streamradar.soccer/sr/match/5616910/ethiopia-nigd-ban
 k-vs-kedus-giorgis/
STATUS:CONFIRMED
END:VEVENT
END:VCALENDAR
