BEGIN:VCALENDAR
VERSION:2.0
PRODID:-//StreamRadar//Match Calendar//EN
CALSCALE:GREGORIAN
METHOD:PUBLISH
X-WR-CALNAME:Negele Arsi Ketema vs Fasil Kenema
X-WR-TIMEZONE:America/New_York
BEGIN:VEVENT
UID:match-5616902@streamradar.soccer
SUMMARY:Negele Arsi Ketema vs Fasil Kenema
DTSTAMP:20260421T063253Z
DTSTART;TZID=America/New_York:20260430T080000
DTEND;TZID=America/New_York:20260430T100000
DESCRIPTION:Gde gledati Negele Arsi Ketema protiv Fasil Kenema u takmičenj
 u Etiopija - Premijer liga Etiopije. Prenos uživo i TV program.\nhttps://s
 treamradar.soccer/sr/match/5616902/negele-arsi-ketema-vs-fasil-kenema/
URL;VALUE=URI:https://streamradar.soccer/sr/match/5616902/negele-arsi-ketem
 a-vs-fasil-kenema/
STATUS:CONFIRMED
END:VEVENT
END:VCALENDAR
