BEGIN:VCALENDAR
VERSION:2.0
PRODID:-//StreamRadar//Match Calendar//EN
CALSCALE:GREGORIAN
METHOD:PUBLISH
X-WR-CALNAME:Al Khabourah vs Al-Rustaq
X-WR-TIMEZONE:America/New_York
BEGIN:VEVENT
UID:match-5616862@streamradar.soccer
SUMMARY:Al Khabourah vs Al-Rustaq
DTSTAMP:20260421T104220Z
DTSTART;TZID=America/New_York:20260518T112000
DTEND;TZID=America/New_York:20260518T132000
DESCRIPTION:Gde gledati Al Khabourah protiv Al-Rustaq u takmičenju Omani L
 eague. Prenos uživo i TV program.\nhttps://streamradar.soccer/sr/match/561
 6862/al-khabourah-vs-al-rustaq/
URL;VALUE=URI:https://streamradar.soccer/sr/match/5616862/al-khabourah-vs-a
 l-rustaq/
STATUS:CONFIRMED
END:VEVENT
END:VCALENDAR
