BEGIN:VCALENDAR
VERSION:2.0
PRODID:-//StreamRadar//Match Calendar//EN
CALSCALE:GREGORIAN
METHOD:PUBLISH
X-WR-CALNAME:Rubio Ñú vs Sportivo Luqueño
X-WR-TIMEZONE:America/New_York
BEGIN:VEVENT
UID:match-5616852@streamradar.soccer
SUMMARY:Rubio Ñú vs Sportivo Luqueño
DTSTAMP:20260419T122532Z
DTSTART;TZID=America/New_York:20260502T190000
DTEND;TZID=America/New_York:20260502T210000
DESCRIPTION:Gde gledati Rubio Ñú protiv Sportivo Luqueño u takmičenju P
 aragvaj - Primera División Paragvaja. Prenos uživo i TV program.\nhttps:/
 /streamradar.soccer/sr/match/5616852/rubio-nu-vs-sportivo-luqueno/
URL;VALUE=URI:https://streamradar.soccer/sr/match/5616852/rubio-nu-vs-sport
 ivo-luqueno/
STATUS:CONFIRMED
END:VEVENT
END:VCALENDAR
