BEGIN:VCALENDAR
VERSION:2.0
PRODID:-//StreamRadar//Match Calendar//EN
CALSCALE:GREGORIAN
METHOD:PUBLISH
X-WR-CALNAME:Beroe vs Septemvri Sofia
X-WR-TIMEZONE:America/New_York
BEGIN:VEVENT
UID:match-5616835@streamradar.soccer
SUMMARY:Beroe vs Septemvri Sofia
DTSTAMP:20260419T121745Z
DTSTART;TZID=America/New_York:20260516T110000
DTEND;TZID=America/New_York:20260516T130000
LOCATION:Stadion Beroe
DESCRIPTION:Gde gledati Beroe protiv Septemvri Sofia u takmičenju Bugarska
  - Parva liga. Prenos uživo i TV program.\nhttps://streamradar.soccer/sr/m
 atch/5616835/beroe-vs-septemvri-sofia/
URL;VALUE=URI:https://streamradar.soccer/sr/match/5616835/beroe-vs-septemvr
 i-sofia/
STATUS:CONFIRMED
END:VEVENT
END:VCALENDAR
