BEGIN:VCALENDAR
VERSION:2.0
PRODID:-//StreamRadar//Match Calendar//EN
CALSCALE:GREGORIAN
METHOD:PUBLISH
X-WR-CALNAME:Vissel Kobe vs Al-Ahli
X-WR-TIMEZONE:America/New_York
BEGIN:VEVENT
UID:match-5616794@streamradar.soccer
SUMMARY:Vissel Kobe vs Al-Ahli
DTSTAMP:20260419T180506Z
DTSTART;TZID=America/New_York:20260420T121500
DTEND;TZID=America/New_York:20260420T141500
LOCATION:King Abdullah Sports City
DESCRIPTION:Gde gledati Vissel Kobe protiv Al-Ahli u takmičenju AFC Champi
 ons League Elite. Prenos uživo i TV program.\nhttps://streamradar.soccer/s
 r/match/5616794/vissel-kobe-vs-al-ahli/
URL;VALUE=URI:https://streamradar.soccer/sr/match/5616794/vissel-kobe-vs-al
 -ahli/
STATUS:CONFIRMED
END:VEVENT
END:VCALENDAR
