BEGIN:VCALENDAR
VERSION:2.0
PRODID:-//StreamRadar//Match Calendar//EN
CALSCALE:GREGORIAN
METHOD:PUBLISH
X-WR-CALNAME:Dothan United vs Montgomery United
X-WR-TIMEZONE:America/New_York
BEGIN:VEVENT
UID:match-5616227@streamradar.soccer
SUMMARY:Dothan United vs Montgomery United
DTSTAMP:20260421T092249Z
DTSTART;TZID=America/New_York:20260516T200000
DTEND;TZID=America/New_York:20260516T220000
DESCRIPTION:Gde gledati Dothan United protiv Montgomery United u takmičenj
 u USL League Two. Prenos uživo i TV program.\nhttps://streamradar.soccer/s
 r/match/5616227/dothan-united-vs-montgomery-united/
URL;VALUE=URI:https://streamradar.soccer/sr/match/5616227/dothan-united-vs-
 montgomery-united/
STATUS:CONFIRMED
END:VEVENT
END:VCALENDAR
