BEGIN:VCALENDAR
VERSION:2.0
PRODID:-//StreamRadar//Match Calendar//EN
CALSCALE:GREGORIAN
METHOD:PUBLISH
X-WR-CALNAME:Sohar vs Bahla
X-WR-TIMEZONE:America/New_York
BEGIN:VEVENT
UID:match-5616181@streamradar.soccer
SUMMARY:Sohar vs Bahla
DTSTAMP:20260421T062035Z
DTSTART;TZID=America/New_York:20260502T100000
DTEND;TZID=America/New_York:20260502T120000
DESCRIPTION:Gde gledati Sohar protiv Bahla u takmičenju Omani League. Pren
 os uživo i TV program.\nhttps://streamradar.soccer/sr/match/5616181/sohar-
 vs-bahla/
URL;VALUE=URI:https://streamradar.soccer/sr/match/5616181/sohar-vs-bahla/
STATUS:CONFIRMED
END:VEVENT
END:VCALENDAR
