BEGIN:VCALENDAR
VERSION:2.0
PRODID:-//StreamRadar//Match Calendar//EN
CALSCALE:GREGORIAN
METHOD:PUBLISH
X-WR-CALNAME:Livingston vs Kilmarnock
X-WR-TIMEZONE:America/New_York
BEGIN:VEVENT
UID:match-5616103@streamradar.soccer
SUMMARY:Livingston vs Kilmarnock
DTSTAMP:20260421T062318Z
DTSTART;TZID=America/New_York:20260517T090000
DTEND;TZID=America/New_York:20260517T110000
LOCATION:The Home of the Set Fare Arena
DESCRIPTION:Gde gledati Livingston protiv Kilmarnock u takmičenju Škotska
  Premijer liga. Prenos uživo i TV program.\nhttps://streamradar.soccer/sr/
 match/5616103/livingston-vs-kilmarnock/
URL;VALUE=URI:https://streamradar.soccer/sr/match/5616103/livingston-vs-kil
 marnock/
STATUS:CONFIRMED
END:VEVENT
END:VCALENDAR
