BEGIN:VCALENDAR
VERSION:2.0
PRODID:-//StreamRadar//Match Calendar//EN
CALSCALE:GREGORIAN
METHOD:PUBLISH
X-WR-CALNAME:Sporting CP vs Tondela
X-WR-TIMEZONE:America/New_York
BEGIN:VEVENT
UID:match-5616101@streamradar.soccer
SUMMARY:Sporting CP vs Tondela
DTSTAMP:20260421T062644Z
DTSTART;TZID=America/New_York:20260429T151500
DTEND;TZID=America/New_York:20260429T171500
DESCRIPTION:Gde gledati Sporting CP protiv Tondela u takmičenju Portugal -
  Primeira liga. Prenos uživo i TV program.\nhttps://streamradar.soccer/sr/
 match/5616101/sporting-cp-vs-tondela/
URL;VALUE=URI:https://streamradar.soccer/sr/match/5616101/sporting-cp-vs-to
 ndela/
STATUS:CONFIRMED
END:VEVENT
END:VCALENDAR
