BEGIN:VCALENDAR
VERSION:2.0
PRODID:-//StreamRadar//Match Calendar//EN
CALSCALE:GREGORIAN
METHOD:PUBLISH
X-WR-CALNAME:Liberte vs AS ZAM
X-WR-TIMEZONE:America/New_York
BEGIN:VEVENT
UID:match-5616091@streamradar.soccer
SUMMARY:Liberte vs AS ZAM
DTSTAMP:20260421T092011Z
DTSTART;TZID=America/New_York:20260419T110000
DTEND;TZID=America/New_York:20260419T130000
DESCRIPTION:Gde gledati Liberte protiv AS ZAM u takmičenju Niger - Super L
 igue. Prenos uživo i TV program.\nhttps://streamradar.soccer/sr/match/5616
 091/liberte-vs-as-zam/
URL;VALUE=URI:https://streamradar.soccer/sr/match/5616091/liberte-vs-as-zam
 /
STATUS:CONFIRMED
END:VEVENT
END:VCALENDAR
