BEGIN:VCALENDAR
VERSION:2.0
PRODID:-//StreamRadar//Match Calendar//EN
CALSCALE:GREGORIAN
METHOD:PUBLISH
X-WR-CALNAME:Urana vs NIGELEC
X-WR-TIMEZONE:America/New_York
BEGIN:VEVENT
UID:match-5616089@streamradar.soccer
SUMMARY:Urana vs NIGELEC
DTSTAMP:20260421T092911Z
DTSTART;TZID=America/New_York:20260419T110000
DTEND;TZID=America/New_York:20260419T130000
LOCATION:Stade d'Arlit (Akokan)
DESCRIPTION:Gde gledati Urana protiv NIGELEC u takmičenju Niger - Super Li
 gue. Prenos uživo i TV program.\nhttps://streamradar.soccer/sr/match/56160
 89/urana-vs-nigelec/
URL;VALUE=URI:https://streamradar.soccer/sr/match/5616089/urana-vs-nigelec/
STATUS:CONFIRMED
END:VEVENT
END:VCALENDAR
