BEGIN:VCALENDAR
VERSION:2.0
PRODID:-//StreamRadar//Match Calendar//EN
CALSCALE:GREGORIAN
METHOD:PUBLISH
X-WR-CALNAME:Riviere Du Rempart vs Cercle De Joachim
X-WR-TIMEZONE:America/New_York
BEGIN:VEVENT
UID:match-5616085@streamradar.soccer
SUMMARY:Riviere Du Rempart vs Cercle De Joachim
DTSTAMP:20260421T104352Z
DTSTART;TZID=America/New_York:20260419T070000
DTEND;TZID=America/New_York:20260419T090000
DESCRIPTION:Gde gledati Riviere Du Rempart protiv Cercle De Joachim u takmi
 čenju Mauricijus - Mauritian League. Prenos uživo i TV program.\nhttps://
 streamradar.soccer/sr/match/5616085/riviere-du-rempart-vs-cercle-de-joachim
 /
URL;VALUE=URI:https://streamradar.soccer/sr/match/5616085/riviere-du-rempar
 t-vs-cercle-de-joachim/
STATUS:CONFIRMED
END:VEVENT
END:VCALENDAR
