BEGIN:VCALENDAR
VERSION:2.0
PRODID:-//StreamRadar//Match Calendar//EN
CALSCALE:GREGORIAN
METHOD:PUBLISH
X-WR-CALNAME:Viitorul Dăești vs ACS Mediaş 2022
X-WR-TIMEZONE:America/New_York
BEGIN:VEVENT
UID:match-5615553@streamradar.soccer
SUMMARY:Viitorul Dăești vs ACS Mediaş 2022
DTSTAMP:20260421T092313Z
DTSTART;TZID=America/New_York:20260516T110000
DTEND;TZID=America/New_York:20260516T130000
DESCRIPTION:Gde gledati Viitorul Dăești protiv ACS Mediaş 2022 u takmič
 enju Rumunija - Liga III. Prenos uživo i TV program.\nhttps://streamradar.
 soccer/sr/match/5615553/viitorul-d-e-ti-vs-acs-media-2022/
URL;VALUE=URI:https://streamradar.soccer/sr/match/5615553/viitorul-d-e-ti-v
 s-acs-media-2022/
STATUS:CONFIRMED
END:VEVENT
END:VCALENDAR
