BEGIN:VCALENDAR
VERSION:2.0
PRODID:-//StreamRadar//Match Calendar//EN
CALSCALE:GREGORIAN
METHOD:PUBLISH
X-WR-CALNAME:CSL Nanov vs Alexandria
X-WR-TIMEZONE:America/New_York
BEGIN:VEVENT
UID:match-5615551@streamradar.soccer
SUMMARY:CSL Nanov vs Alexandria
DTSTAMP:20260421T093021Z
DTSTART;TZID=America/New_York:20260516T110000
DTEND;TZID=America/New_York:20260516T130000
DESCRIPTION:Gde gledati CSL Nanov protiv Alexandria u takmičenju Rumunija 
 - Liga III. Prenos uživo i TV program.\nhttps://streamradar.soccer/sr/matc
 h/5615551/csl-nanov-vs-alexandria/
URL;VALUE=URI:https://streamradar.soccer/sr/match/5615551/csl-nanov-vs-alex
 andria/
STATUS:CONFIRMED
END:VEVENT
END:VCALENDAR
