BEGIN:VCALENDAR
VERSION:2.0
PRODID:-//StreamRadar//Match Calendar//EN
CALSCALE:GREGORIAN
METHOD:PUBLISH
X-WR-CALNAME:Binga vs Réal Bamako
X-WR-TIMEZONE:America/New_York
BEGIN:VEVENT
UID:match-5615445@streamradar.soccer
SUMMARY:Binga vs Réal Bamako
DTSTAMP:20260420T033255Z
DTSTART;TZID=America/New_York:20260502T123000
DTEND;TZID=America/New_York:20260502T143000
DESCRIPTION:Gde gledati Binga protiv Réal Bamako u takmičenju Mali - Prem
 ière Division. Prenos uživo i TV program.\nhttps://streamradar.soccer/sr/
 match/5615445/binga-vs-real-bamako/
URL;VALUE=URI:https://streamradar.soccer/sr/match/5615445/binga-vs-real-bam
 ako/
STATUS:CONFIRMED
END:VEVENT
END:VCALENDAR
