BEGIN:VCALENDAR
VERSION:2.0
PRODID:-//StreamRadar//Match Calendar//EN
CALSCALE:GREGORIAN
METHOD:PUBLISH
X-WR-CALNAME:Bakaridjan vs ASKO
X-WR-TIMEZONE:America/New_York
BEGIN:VEVENT
UID:match-5615444@streamradar.soccer
SUMMARY:Bakaridjan vs ASKO
DTSTAMP:20260421T062039Z
DTSTART;TZID=America/New_York:20260502T123000
DTEND;TZID=America/New_York:20260502T143000
DESCRIPTION:Gde gledati Bakaridjan protiv ASKO u takmičenju Mali - Premiè
 re Division. Prenos uživo i TV program.\nhttps://streamradar.soccer/sr/mat
 ch/5615444/bakaridjan-vs-asko/
URL;VALUE=URI:https://streamradar.soccer/sr/match/5615444/bakaridjan-vs-ask
 o/
STATUS:CONFIRMED
END:VEVENT
END:VCALENDAR
