BEGIN:VCALENDAR
VERSION:2.0
PRODID:-//StreamRadar//Match Calendar//EN
CALSCALE:GREGORIAN
METHOD:PUBLISH
X-WR-CALNAME:Réal Bamako vs Bakaridjan
X-WR-TIMEZONE:America/New_York
BEGIN:VEVENT
UID:match-5615436@streamradar.soccer
SUMMARY:Réal Bamako vs Bakaridjan
DTSTAMP:20260420T002254Z
DTSTART;TZID=America/New_York:20260424T123000
DTEND;TZID=America/New_York:20260424T143000
LOCATION:Stade Omnisports Modibo Keïta (Bamako)
DESCRIPTION:Gde gledati Réal Bamako protiv Bakaridjan u takmičenju Mali -
  Première Division. Prenos uživo i TV program.\nhttps://streamradar.socce
 r/sr/match/5615436/real-bamako-vs-bakaridjan/
URL;VALUE=URI:https://streamradar.soccer/sr/match/5615436/real-bamako-vs-ba
 karidjan/
STATUS:CONFIRMED
END:VEVENT
END:VCALENDAR
