BEGIN:VCALENDAR
VERSION:2.0
PRODID:-//StreamRadar//Match Calendar//EN
CALSCALE:GREGORIAN
METHOD:PUBLISH
X-WR-CALNAME:Noroeste vs Velo Clube
X-WR-TIMEZONE:America/New_York
BEGIN:VEVENT
UID:match-5615406@streamradar.soccer
SUMMARY:Noroeste vs Velo Clube
DTSTAMP:20260421T092023Z
DTSTART;TZID=America/New_York:20260516T160000
DTEND;TZID=America/New_York:20260516T180000
LOCATION:Estadio Alfredo de Castilho
DESCRIPTION:Gde gledati Noroeste protiv Velo Clube u takmičenju Brazil - S
 erie D. Prenos uživo i TV program.\nhttps://streamradar.soccer/sr/match/56
 15406/noroeste-vs-velo-clube/
URL;VALUE=URI:https://streamradar.soccer/sr/match/5615406/noroeste-vs-velo-
 clube/
STATUS:CONFIRMED
END:VEVENT
END:VCALENDAR
