BEGIN:VCALENDAR
VERSION:2.0
PRODID:-//StreamRadar//Match Calendar//EN
CALSCALE:GREGORIAN
METHOD:PUBLISH
X-WR-CALNAME:Jesenice vs Triglav
X-WR-TIMEZONE:America/New_York
BEGIN:VEVENT
UID:match-5615371@streamradar.soccer
SUMMARY:Jesenice vs Triglav
DTSTAMP:20260421T050749Z
DTSTART;TZID=America/New_York:20260430T110000
DTEND;TZID=America/New_York:20260430T130000
DESCRIPTION:Gde gledati Jesenice protiv Triglav u takmičenju Slovenija - D
 ruga liga Slovenije. Prenos uživo i TV program.\nhttps://streamradar.socce
 r/sr/match/5615371/jesenice-vs-triglav/
URL;VALUE=URI:https://streamradar.soccer/sr/match/5615371/jesenice-vs-trigl
 av/
STATUS:CONFIRMED
END:VEVENT
END:VCALENDAR
