BEGIN:VCALENDAR
VERSION:2.0
PRODID:-//StreamRadar//Match Calendar//EN
CALSCALE:GREGORIAN
METHOD:PUBLISH
X-WR-CALNAME:Novi Pazar vs Železničar Pančevo
X-WR-TIMEZONE:America/New_York
BEGIN:VEVENT
UID:match-5615326@streamradar.soccer
SUMMARY:Novi Pazar vs Železničar Pančevo
DTSTAMP:20260421T093208Z
DTSTART;TZID=America/New_York:20260516T130000
DTEND;TZID=America/New_York:20260516T150000
LOCATION:Gradski Stadion
DESCRIPTION:Gde gledati Novi Pazar protiv Železničar Pančevo u takmičen
 ju Srbija - Superliga Srbije. Prenos uživo i TV program.\nhttps://streamra
 dar.soccer/sr/match/5615326/novi-pazar-vs-zeleznicar-pancevo/
URL;VALUE=URI:https://streamradar.soccer/sr/match/5615326/novi-pazar-vs-zel
 eznicar-pancevo/
STATUS:CONFIRMED
END:VEVENT
END:VCALENDAR
