BEGIN:VCALENDAR
VERSION:2.0
PRODID:-//StreamRadar//Match Calendar//EN
CALSCALE:GREGORIAN
METHOD:PUBLISH
X-WR-CALNAME:Germany U23 vs Denmark U23
X-WR-TIMEZONE:America/New_York
BEGIN:VEVENT
UID:match-5615135@streamradar.soccer
SUMMARY:Germany U23 vs Denmark U23
DTSTAMP:20260421T135916Z
DTSTART;TZID=America/New_York:20260608T120000
DTEND;TZID=America/New_York:20260608T140000
DESCRIPTION:Gde gledati Germany U23 protiv Denmark U23 u takmičenju Međun
 arodna ženska prijateljska utakmica. Prenos uživo i TV program.\nhttps://
 streamradar.soccer/sr/match/5615135/germany-u23-vs-denmark-u23/
URL;VALUE=URI:https://streamradar.soccer/sr/match/5615135/germany-u23-vs-de
 nmark-u23/
STATUS:CONFIRMED
END:VEVENT
END:VCALENDAR
