BEGIN:VCALENDAR
VERSION:2.0
PRODID:-//StreamRadar//Match Calendar//EN
CALSCALE:GREGORIAN
METHOD:PUBLISH
X-WR-CALNAME:JK Tabasalu vs Trans II
X-WR-TIMEZONE:America/New_York
BEGIN:VEVENT
UID:match-5614800@streamradar.soccer
SUMMARY:JK Tabasalu vs Trans II
DTSTAMP:20260421T141608Z
DTSTART;TZID=America/New_York:20260506T123000
DTEND;TZID=America/New_York:20260506T143000
DESCRIPTION:Gde gledati JK Tabasalu protiv Trans II u takmičenju Estonija 
 - Esiliiga B. Prenos uživo i TV program.\nhttps://streamradar.soccer/sr/ma
 tch/5614800/jk-tabasalu-vs-trans-ii/
URL;VALUE=URI:https://streamradar.soccer/sr/match/5614800/jk-tabasalu-vs-tr
 ans-ii/
STATUS:CONFIRMED
END:VEVENT
END:VCALENDAR
