BEGIN:VCALENDAR
VERSION:2.0
PRODID:-//StreamRadar//Match Calendar//EN
CALSCALE:GREGORIAN
METHOD:PUBLISH
X-WR-CALNAME:Petrolul 52 II vs Victoria Traian
X-WR-TIMEZONE:America/New_York
BEGIN:VEVENT
UID:match-5614786@streamradar.soccer
SUMMARY:Petrolul 52 II vs Victoria Traian
DTSTAMP:20260421T085454Z
DTSTART;TZID=America/New_York:20260515T110000
DTEND;TZID=America/New_York:20260515T130000
DESCRIPTION:Gde gledati Petrolul 52 II protiv Victoria Traian u takmičenju
  Rumunija - Liga III. Prenos uživo i TV program.\nhttps://streamradar.socc
 er/sr/match/5614786/petrolul-52-ii-vs-victoria-traian/
URL;VALUE=URI:https://streamradar.soccer/sr/match/5614786/petrolul-52-ii-vs
 -victoria-traian/
STATUS:CONFIRMED
END:VEVENT
END:VCALENDAR
