BEGIN:VCALENDAR
VERSION:2.0
PRODID:-//StreamRadar//Match Calendar//EN
CALSCALE:GREGORIAN
METHOD:PUBLISH
X-WR-CALNAME:HLM vs Stade de Mbour
X-WR-TIMEZONE:America/New_York
BEGIN:VEVENT
UID:match-5614748@streamradar.soccer
SUMMARY:HLM vs Stade de Mbour
DTSTAMP:20260421T114431Z
DTSTART;TZID=America/New_York:20260420T130000
DTEND;TZID=America/New_York:20260420T150000
LOCATION:Stade Demba Diop (Dakar)
DESCRIPTION:Gde gledati HLM protiv Stade De Mbour u takmičenju Senegal - P
 remijer liga Senegal. Prenos uživo i TV program.\nhttps://streamradar.socc
 er/sr/match/5614748/hlm-vs-stade-de-mbour/
URL;VALUE=URI:https://streamradar.soccer/sr/match/5614748/hlm-vs-stade-de-m
 bour/
STATUS:CONFIRMED
END:VEVENT
END:VCALENDAR
