BEGIN:VCALENDAR
VERSION:2.0
PRODID:-//StreamRadar//Match Calendar//EN
CALSCALE:GREGORIAN
METHOD:PUBLISH
X-WR-CALNAME:Escorpiones Belén vs Santa Cruz FC
X-WR-TIMEZONE:America/New_York
BEGIN:VEVENT
UID:match-5614739@streamradar.soccer
SUMMARY:Escorpiones Belén vs Santa Cruz FC
DTSTAMP:20260421T060121Z
DTSTART;TZID=America/New_York:20260426T160000
DTEND;TZID=America/New_York:20260426T180000
DESCRIPTION:Gde gledati Escorpiones Belén protiv Santa Cruz FC u takmičen
 ju Kostarika - Druga liga Kosta Rike. Prenos uživo i TV program.\nhttps://
 streamradar.soccer/sr/match/5614739/escorpiones-belen-vs-santa-cruz-fc/
URL;VALUE=URI:https://streamradar.soccer/sr/match/5614739/escorpiones-belen
 -vs-santa-cruz-fc/
STATUS:CONFIRMED
END:VEVENT
END:VCALENDAR
