BEGIN:VCALENDAR
VERSION:2.0
PRODID:-//StreamRadar//Match Calendar//EN
CALSCALE:GREGORIAN
METHOD:PUBLISH
X-WR-CALNAME:Jicaral vs Jacó Rays
X-WR-TIMEZONE:America/New_York
BEGIN:VEVENT
UID:match-5614737@streamradar.soccer
SUMMARY:Jicaral vs Jacó Rays
DTSTAMP:20260421T071406Z
DTSTART;TZID=America/New_York:20260426T160000
DTEND;TZID=America/New_York:20260426T180000
LOCATION:Cancha de la Asociación Cívica (Jicaral)
DESCRIPTION:Gde gledati Jicaral protiv Jacó Rays u takmičenju Kostarika -
  Druga liga Kosta Rike. Prenos uživo i TV program.\nhttps://streamradar.so
 ccer/sr/match/5614737/jicaral-vs-jaco-rays/
URL;VALUE=URI:https://streamradar.soccer/sr/match/5614737/jicaral-vs-jaco-r
 ays/
STATUS:CONFIRMED
END:VEVENT
END:VCALENDAR
